BEGIN:VCALENDAR
VERSION:2.0
PRODID:-//Contratero//ES
CALSCALE:GREGORIAN
METHOD:PUBLISH
BEGIN:VEVENT
UID:RSC: 2018-00048@contratero.es
DTSTAMP:20260425T140909Z
DTSTART:20180920T235959
DTEND:20180921T005959
SUMMARY:Cierre: Acuerdo Marco para el Desarrollo de proyectos y ma
DESCRIPTION:Acuerdo Marco para el Desarrollo de proyectos y mantenimiento en entorno Business Intelligence.\\n\\nOrganismo: Presidencia del Consejo de Administración de la Autoridad Portuaria de Barcelona (PORT DE BARCELONA)\\n\\nVer en Contratero: https://contratero.es/contracts/RSC: 2018-00048
URL:https://contratero.es/contracts/RSC: 2018-00048
STATUS:CONFIRMED
BEGIN:VALARM
TRIGGER:-P1D
ACTION:DISPLAY
DESCRIPTION:Recordatorio: Acuerdo Marco para el Desarrol
END:VALARM
END:VEVENT
END:VCALENDAR